BEGIN:VCALENDAR
VERSION:2.0
PRODID:-//INAVRS - Indonesian Vitreo Retinal Society - ECPv6.15.15//NONSGML v1.0//EN
CALSCALE:GREGORIAN
METHOD:PUBLISH
X-WR-CALNAME:INAVRS - Indonesian Vitreo Retinal Society
X-ORIGINAL-URL:https://inavrs.org
X-WR-CALDESC:Events for INAVRS - Indonesian Vitreo Retinal Society
REFRESH-INTERVAL;VALUE=DURATION:PT1H
X-Robots-Tag:noindex
X-PUBLISHED-TTL:PT1H
BEGIN:VTIMEZONE
TZID:Asia/Krasnoyarsk
BEGIN:STANDARD
TZOFFSETFROM:+0700
TZOFFSETTO:+0700
TZNAME:+07
DTSTART:20180101T000000
END:STANDARD
END:VTIMEZONE
BEGIN:VTIMEZONE
TZID:Europe/Helsinki
BEGIN:DAYLIGHT
TZOFFSETFROM:+0200
TZOFFSETTO:+0300
TZNAME:EEST
DTSTART:20180325T010000
END:DAYLIGHT
BEGIN:STANDARD
TZOFFSETFROM:+0300
TZOFFSETTO:+0200
TZNAME:EET
DTSTART:20181028T010000
END:STANDARD
BEGIN:DAYLIGHT
TZOFFSETFROM:+0200
TZOFFSETTO:+0300
TZNAME:EEST
DTSTART:20190331T010000
END:DAYLIGHT
BEGIN:STANDARD
TZOFFSETFROM:+0300
TZOFFSETTO:+0200
TZNAME:EET
DTSTART:20191027T010000
END:STANDARD
BEGIN:DAYLIGHT
TZOFFSETFROM:+0200
TZOFFSETTO:+0300
TZNAME:EEST
DTSTART:20200329T010000
END:DAYLIGHT
BEGIN:STANDARD
TZOFFSETFROM:+0300
TZOFFSETTO:+0200
TZNAME:EET
DTSTART:20201025T010000
END:STANDARD
BEGIN:DAYLIGHT
TZOFFSETFROM:+0200
TZOFFSETTO:+0300
TZNAME:EEST
DTSTART:20210328T010000
END:DAYLIGHT
BEGIN:STANDARD
TZOFFSETFROM:+0300
TZOFFSETTO:+0200
TZNAME:EET
DTSTART:20211031T010000
END:STANDARD
END:VTIMEZONE
BEGIN:VTIMEZONE
TZID:UTC
BEGIN:STANDARD
TZOFFSETFROM:+0000
TZOFFSETTO:+0000
TZNAME:UTC
DTSTART:20180101T000000
END:STANDARD
END:VTIMEZONE
BEGIN:VTIMEZONE
TZID:Asia/Shanghai
BEGIN:STANDARD
TZOFFSETFROM:+0800
TZOFFSETTO:+0800
TZNAME:CST
DTSTART:20180101T000000
END:STANDARD
END:VTIMEZONE
BEGIN:VTIMEZONE
TZID:America/Denver
BEGIN:DAYLIGHT
TZOFFSETFROM:-0700
TZOFFSETTO:-0600
TZNAME:MDT
DTSTART:20180311T090000
END:DAYLIGHT
BEGIN:STANDARD
TZOFFSETFROM:-0600
TZOFFSETTO:-0700
TZNAME:MST
DTSTART:20181104T080000
END:STANDARD
BEGIN:DAYLIGHT
TZOFFSETFROM:-0700
TZOFFSETTO:-0600
TZNAME:MDT
DTSTART:20190310T090000
END:DAYLIGHT
BEGIN:STANDARD
TZOFFSETFROM:-0600
TZOFFSETTO:-0700
TZNAME:MST
DTSTART:20191103T080000
END:STANDARD
BEGIN:DAYLIGHT
TZOFFSETFROM:-0700
TZOFFSETTO:-0600
TZNAME:MDT
DTSTART:20200308T090000
END:DAYLIGHT
BEGIN:STANDARD
TZOFFSETFROM:-0600
TZOFFSETTO:-0700
TZNAME:MST
DTSTART:20201101T080000
END:STANDARD
END:VTIMEZONE
BEGIN:VTIMEZONE
TZID:UTC
BEGIN:STANDARD
TZOFFSETFROM:+0000
TZOFFSETTO:+0000
TZNAME:UTC
DTSTART:20180101T000000
END:STANDARD
END:VTIMEZONE
BEGIN:VEVENT
DTSTART;TZID=Asia/Krasnoyarsk:20230824T080000
DTEND;TZID=Asia/Krasnoyarsk:20230826T170000
DTSTAMP:20260422T063458
CREATED:20230310T040356Z
LAST-MODIFIED:20230310T040800Z
UID:2255-1692864000-1693069200@inavrs.org
SUMMARY:PIT PERDAMI 48 YOGYAKARTA
DESCRIPTION:Tiga tahun situasi pandemi COVID-19 melanda setiap negara di dunia tidak terkecuali Indonesia\, dimana segala kegiatan dan aktifitas dibatasi sesuai level PPKM pada daerah masing-masing. Selama 3 tahun ini Perdami tetap melaksanakan tugasnya menyelenggarakan kegiatan pertemuan ilmiah secara daring guna meningkatkan profesionalisme dan pengetahuan profesionalisme Dokter Spesialis Mata dalam rangka meningkatkan pelayanan kepada pasien. \nBersyukur pada pertengahan tahun 2022 ini angka positive rate covid-19 nasional sangat menurun\, dan pada awal tahun 2023 PPKM sudah tidak diberlakukan lagi. Oleh karenanya\, Perdami akan menyelenggarakan pertemuan ilmiah tahunan secara langsung tatap muka dengan tetap menerapkan protokol kesehatan. \nPIT Perdami ke 48 akan dilaksanakan pada tanggal 24 – 26 Agustus 2023 di Ballroom Hotel Marriott\, Yogyakarta. PIT Perdami 2023 mengambil tema Moving Upon Latest Innovations in Holistic Eyecare\, yang artinya bergerak maju kearah perkembangan inovasi terkini khususnya dalam pelayanan kesehatan mata. Penyelenggaraan PIT kali ini diupayakan menjadi Go Green Event dimana penggunaan botol plastic akan dikurangi\, sebagai penggantinya panitia memberikan tumbler\, botol minuman yang dapat digunakan berulangkali\, kepada peserta. Disamping itu materi pertemuan dibuat secara virtual seperti e-registrasi\, e\,proceeding book\, e-poster\, dan e-sertifikat. \nPanitia telah menyiapkan program ilmiah yang sangat komprehensif mengikuti perkembangan Ilmu Kedokteran seiring dengan berkembangnya jaman guna meningkatkan profesionalisme dan pengetahuan Dokter Spesialis Mata dalam rangka meningkatkan pelayanannya kepada pasien.\nDan pada kesempatan ini panitia membuka peluang untuk para pelaku industri Kesehatan mata untuk berpartisipasi dan bertemu secara langsung dengan peserta sehingga dapat mempromosikan produk dan layanan bapak / ibu secara detail.\nSebagai bahan pertimbangan\, dibawah ini proposal penawaran menjadi sponsor dan peserta pameran pada PIT Perdami ke 48 di Yogyakarta. Apabila ada pertanyaan dapat menghubungi panitia. \nTerimakasih\nPanitia PIT PERDAMI 48
URL:https://inavrs.org/event/pit-perdami-48-yogyakarta/
LOCATION:JW Marriot Hotel\, Jl. Ring Road Utara\, Kaliwaru\, Condongcatur\, Kec. Depok\, Sleman\, Yogyakarta\, 55283\, Indonesia
CATEGORIES:PIT PERDAMI
ATTACH;FMTTYPE=image/png:https://inavrs.org/wp-content/uploads/2023/03/logo-pit48-datar.png
ORGANIZER;CN="PERDAMI":MAILTO:secretariat@perdami.or.id
END:VEVENT
BEGIN:VEVENT
DTSTART;VALUE=DATE:20200626
DTEND;VALUE=DATE:20200630
DTSTAMP:20260422T063458
CREATED:20190617T071647Z
LAST-MODIFIED:20190821T003413Z
UID:1541-1593129600-1593475199@inavrs.org
SUMMARY:World Opthalmology Conggress
DESCRIPTION:
URL:https://inavrs.org/event/woc-2020/
LOCATION:CTICC\, Convention Square\, 1 Lower Long Street\, Cape Town\, Cape Town\, 8001\, South Africa
CATEGORIES:Category Event
ATTACH;FMTTYPE=image/jpeg:https://inavrs.org/wp-content/uploads/2019/06/WOC-2020.jpg
ORGANIZER;CN="OSSA":MAILTO:ovsa@mweb.co.za
END:VEVENT
BEGIN:VEVENT
DTSTART;VALUE=DATE:20191012
DTEND;VALUE=DATE:20191016
DTSTAMP:20260422T063458
CREATED:20190617T071643Z
LAST-MODIFIED:20190617T073305Z
UID:1540-1570838400-1571183999@inavrs.org
SUMMARY:American Academy of Ophtalmology
DESCRIPTION:
URL:https://inavrs.org/event/aao-2019/
LOCATION:Moscone Center\, 747 Howard St\, San Francisco\,\, CA\, CA 94103\, United States
CATEGORIES:Category Event
ATTACH;FMTTYPE=image/jpeg:https://inavrs.org/wp-content/uploads/2019/06/AAO-2019.jpg
END:VEVENT
BEGIN:VEVENT
DTSTART;VALUE=DATE:20190926
DTEND;VALUE=DATE:20190929
DTSTAMP:20260422T063458
CREATED:20190617T071640Z
LAST-MODIFIED:20190617T072852Z
UID:1539-1569456000-1569715199@inavrs.org
SUMMARY:5th National Congress & 44th Annual Scientific Meeting Of Indonesia Ophtalmologist Association
DESCRIPTION:
URL:https://inavrs.org/event/pitmakassar-2019/
LOCATION:Claro Hotel\, Tamamaung\, Panakkukang\, Jl. A. P. Pettarani No.03\, Makassar\, Sulawesi Selatan\, 90221\, Indonesia
CATEGORIES:Category Event
ATTACH;FMTTYPE=image/jpeg:https://inavrs.org/wp-content/uploads/2019/06/PIT-Makassar.jpg
ORGANIZER;CN="PERDAMI":MAILTO:secretariat@perdami.or.id
END:VEVENT
BEGIN:VEVENT
DTSTART;VALUE=DATE:20190905
DTEND;VALUE=DATE:20190909
DTSTAMP:20260422T063458
CREATED:20190617T071637Z
LAST-MODIFIED:20190617T072459Z
UID:1538-1567641600-1567987199@inavrs.org
SUMMARY:19th EURETINA Congress
DESCRIPTION:
URL:https://inavrs.org/event/euretina-2019/
LOCATION:Palais des Congrés de Paris\, 2 Place de la Porte Maillot\, Paris\, Paris\, 75017\, France
CATEGORIES:Category Event
ATTACH;FMTTYPE=image/jpeg:https://inavrs.org/wp-content/uploads/2019/06/EURETINA-2019.jpg
ORGANIZER;CN="EURETINA":MAILTO:euretina@euretina.org
END:VEVENT
BEGIN:VEVENT
DTSTART;VALUE=DATE:20190629
DTEND;VALUE=DATE:20190701
DTSTAMP:20260422T063458
CREATED:20170425T031841Z
LAST-MODIFIED:20190617T070801Z
UID:779-1561766400-1561939199@inavrs.org
SUMMARY:Regional II Opthalmology Meeting 2019
DESCRIPTION:
URL:https://inavrs.org/event/riiom-2019/
LOCATION:Sheraton Grand Hotel Gandaria City\, Jl. Sultan Iskandar Muda\, RT.10/RW.6\, Jakarta\, DKI Jakarta\, 12240\, Indonesia
CATEGORIES:Category Event
ATTACH;FMTTYPE=image/jpeg:https://inavrs.org/wp-content/uploads/2017/04/riiom-2019.jpg
ORGANIZER;CN="PERDAMI":MAILTO:secretariat@perdami.or.id
END:VEVENT
BEGIN:VEVENT
DTSTART;VALUE=DATE:20190428
DTEND;VALUE=DATE:20190503
DTSTAMP:20260422T063458
CREATED:20170424T024548Z
LAST-MODIFIED:20190617T070748Z
UID:723-1556409600-1556841599@inavrs.org
SUMMARY:Association for Research in Vision and Ophthalmology (ARVO) 2019 Annual Meeting
DESCRIPTION:
URL:https://inavrs.org/event/arvo-2019/
LOCATION:Vancouver Convention Centre\, 999 Canada Place\, Vancouver\, Vancouver\, BC V6C 3C1\, Canada
CATEGORIES:Category Event
ATTACH;FMTTYPE=image/jpeg:https://inavrs.org/wp-content/uploads/2017/04/arvo2019.jpg
ORGANIZER;CN="ARVO":MAILTO:arvo@arvo.org
END:VEVENT
BEGIN:VEVENT
DTSTART;VALUE=DATE:20190306
DTEND;VALUE=DATE:20190310
DTSTAMP:20260422T063458
CREATED:20170421T082433Z
LAST-MODIFIED:20190617T054207Z
UID:709-1551830400-1552175999@inavrs.org
SUMMARY:The 34th Congress of Asia Pacific Academy of Opthalmology
DESCRIPTION:
URL:https://inavrs.org/event/apao-2019/
LOCATION:QSNCC\, 60 Ratchadaphisek Rd\, Khwaeng Khlong Toei\, Khet Khlong Toei\, Krung Thep Maha Nakhon\, 10110\, Thailand
CATEGORIES:Category Event
ATTACH;FMTTYPE=image/gif:https://inavrs.org/wp-content/uploads/2017/04/APAO-2019-FINAL-PROGRAM.gif
ORGANIZER;CN="APAO":MAILTO:secretariat@apaophth.org
END:VEVENT
BEGIN:VEVENT
DTSTART;VALUE=DATE:20190118
DTEND;VALUE=DATE:20190121
DTSTAMP:20260422T063458
CREATED:20170425T031851Z
LAST-MODIFIED:20190617T051612Z
UID:781-1547769600-1548028799@inavrs.org
SUMMARY:Cicendo-International Opthalmology Meeting
DESCRIPTION:
URL:https://inavrs.org/event/ciom-2019/
LOCATION:The Trans Luxury Hotel\, Jl. Gatot Subroto No.289\, Cibangkong\, Bandung\, Jawa Barat\, 40273\, Indonesia
CATEGORIES:Category Event
ATTACH;FMTTYPE=image/jpeg:https://inavrs.org/wp-content/uploads/2017/04/CIOMS.jpg
ORGANIZER;CN="Cicendo Eye Hospital":MAILTO:-
END:VEVENT
END:VCALENDAR